BEGIN:VCALENDAR
VERSION:2.0
PRODID:-//hacksw/handcal//NONSGML v1.0//EN
CALSCALE:GREGORIAN
BEGIN:VEVENT
SUMMARY:57. Pfingstturnier
DTSTART:20260525T080000Z
DTEND:20260525T170000Z
LOCATION:Sproochbrugg
DTSTAMP:20260421T081830Z
UID:69e716b623460
END:VEVENT
END:VCALENDAR