BEGIN:VCALENDAR
VERSION:2.0
PRODID:-//hacksw/handcal//NONSGML v1.0//EN
CALSCALE:GREGORIAN
BEGIN:VEVENT
SUMMARY:Einladung zum Seniorenausflug Allgäu-Skiflugschanze Oberstdorf
DTSTART:20260527T080000Z
DTEND:20260527T190000Z
LOCATION:Älgau
DTSTAMP:20260424T105005Z
UID:69eb2ebd35be6
END:VEVENT
END:VCALENDAR